BEGIN:VCALENDAR
VERSION:2.0
PRODID:-//Contratero//ES
CALSCALE:GREGORIAN
METHOD:PUBLISH
BEGIN:VEVENT
UID:Gestur 012/2025@contratero.es
DTSTAMP:20260423T231303Z
DTSTART:20260128T235959
DTEND:20260129T005959
SUMMARY:Cierre: Implantación y mantenimiento de una plataforma de 
DESCRIPTION:Implantación y mantenimiento de una plataforma de administración electrónica para Gestur Canarias S.A.\\n\\nOrganismo: Consejería Delegada de GESTUR Canarias\, S.A.\\n\\nVer en Contratero: https://contratero.es/contracts/Gestur 012/2025
URL:https://contratero.es/contracts/Gestur 012/2025
STATUS:CONFIRMED
BEGIN:VALARM
TRIGGER:-P1D
ACTION:DISPLAY
DESCRIPTION:Recordatorio: Implantación y mantenimiento d
END:VALARM
END:VEVENT
END:VCALENDAR